BEGIN:VCALENDAR
VERSION:2.0
PRODID:-//jEvents 2.0 for Joomla//EN
CALSCALE:GREGORIAN
METHOD:PUBLISH
BEGIN:VTIMEZONE
TZID:Europe/Berlin
BEGIN:STANDARD
DTSTART:20230216T173000
RDATE:20230326T030000
TZOFFSETFROM:+0200
TZOFFSETTO:+0100
TZNAME:Europe/Berlin CET
END:STANDARD
BEGIN:STANDARD
DTSTART:20231029T020000
RDATE:20240331T030000
TZOFFSETFROM:+0200
TZOFFSETTO:+0100
TZNAME:Europe/Berlin CET
END:STANDARD
BEGIN:STANDARD
DTSTART:20241027T020000
RDATE:20250330T030000
TZOFFSETFROM:+0200
TZOFFSETTO:+0100
TZNAME:Europe/Berlin CET
END:STANDARD
BEGIN:STANDARD
DTSTART:20251026T020000
RDATE:20260329T030000
TZOFFSETFROM:+0200
TZOFFSETTO:+0100
TZNAME:Europe/Berlin CET
END:STANDARD
BEGIN:STANDARD
DTSTART:20261025T020000
RDATE:20270328T030000
TZOFFSETFROM:+0200
TZOFFSETTO:+0100
TZNAME:Europe/Berlin CET
END:STANDARD
BEGIN:STANDARD
DTSTART:20271031T020000
RDATE:20280326T030000
TZOFFSETFROM:+0200
TZOFFSETTO:+0100
TZNAME:Europe/Berlin CET
END:STANDARD
BEGIN:STANDARD
DTSTART:20281029T020000
RDATE:20290325T030000
TZOFFSETFROM:+0200
TZOFFSETTO:+0100
TZNAME:Europe/Berlin CET
END:STANDARD
BEGIN:STANDARD
DTSTART:20291028T020000
RDATE:20300331T030000
TZOFFSETFROM:+0200
TZOFFSETTO:+0100
TZNAME:Europe/Berlin CET
END:STANDARD
BEGIN:STANDARD
DTSTART:20301027T020000
RDATE:20310330T030000
TZOFFSETFROM:+0200
TZOFFSETTO:+0100
TZNAME:Europe/Berlin CET
END:STANDARD
BEGIN:DAYLIGHT
DTSTART:20230326T030000
RDATE:20231029T020000
TZOFFSETFROM:+0100
TZOFFSETTO:+0200
TZNAME:Europe/Berlin CEST
END:DAYLIGHT
BEGIN:DAYLIGHT
DTSTART:20240331T030000
RDATE:20241027T020000
TZOFFSETFROM:+0100
TZOFFSETTO:+0200
TZNAME:Europe/Berlin CEST
END:DAYLIGHT
BEGIN:DAYLIGHT
DTSTART:20250330T030000
RDATE:20251026T020000
TZOFFSETFROM:+0100
TZOFFSETTO:+0200
TZNAME:Europe/Berlin CEST
END:DAYLIGHT
BEGIN:DAYLIGHT
DTSTART:20260329T030000
RDATE:20261025T020000
TZOFFSETFROM:+0100
TZOFFSETTO:+0200
TZNAME:Europe/Berlin CEST
END:DAYLIGHT
BEGIN:DAYLIGHT
DTSTART:20270328T030000
RDATE:20271031T020000
TZOFFSETFROM:+0100
TZOFFSETTO:+0200
TZNAME:Europe/Berlin CEST
END:DAYLIGHT
BEGIN:DAYLIGHT
DTSTART:20280326T030000
RDATE:20281029T020000
TZOFFSETFROM:+0100
TZOFFSETTO:+0200
TZNAME:Europe/Berlin CEST
END:DAYLIGHT
BEGIN:DAYLIGHT
DTSTART:20290325T030000
RDATE:20291028T020000
TZOFFSETFROM:+0100
TZOFFSETTO:+0200
TZNAME:Europe/Berlin CEST
END:DAYLIGHT
BEGIN:DAYLIGHT
DTSTART:20300331T030000
RDATE:20301027T020000
TZOFFSETFROM:+0100
TZOFFSETTO:+0200
TZNAME:Europe/Berlin CEST
END:DAYLIGHT
END:VTIMEZONE
BEGIN:VEVENT
UID:ef7e2c762bdc6bc705b8a9ede25cc5b2
CATEGORIES:Kultur
CREATED:20240209T063215
SUMMARY:Schlager im Theatersaal mit Thalbach, Harfouch und Schneider
LOCATION:Theatersaal Klandorf
DESCRIPTION:Liebe Freundinnen, liebe Freunde, Schlager im THEATERSAAL! „Wir verbinden d
 amit viele Erinnerung an unsere Urgroßmütter, Großmütter, Mütter und auch a
 n unsere Kindheit und Jugend“, sagt Katharina Thalbach. Und: „Schlager könn
 en, wenn sie gut sind, sehr gute Laune machen.“Wir sind glücklich, dass die
  vorzügliche Andreja Schneider, die schon oft mit Kathi Thalbach aufgetrete
 n ist, kurzfristig für den leider erkrankten Thomas Quasthoff einspringt. B
 egleitet von Christoph Israel am Klavier singen und performen Katharina Tha
 lbach, Andreja Schneider und Corinna Harfouch einige ihrer liebsten Schlage
 r aus Ost und West, Nord und Süd. Kommt und hört und habt Spaß! Corinna Har
 fouch und Erdmut Wizisla  Unsere nächsten Veranstaltungen:2. März, 15:30 Uh
 r: AUF BEIDEN SEITEN. Die Berliner Polizei an der Mauer, mit Ute Kähler und
  Michael Keusch (Buchvorstellung)6. April, 17:30 Uhr: STIMMEN DER UKRAINE m
 it Iryna Lazer, Mareile Metzner, Nataliia Kuprynenko, Iryna Razin-Kravchenk
 o, Jan Uplegger und Daniil Zverkhanovsky (Eine musikalische Reise durch die
  Literatur der Ukraine)
X-ALT-DESC;FMTTYPE=text/html:<div>Liebe Freundinnen, liebe Freunde,</div><div>&nbsp;</div><div class="de
 fault-style"><strong>Schlager im THEATERSAAL!</strong></div><div>&nbsp;</di
 v><div class="default-style">„Wir verbinden damit viele Erinnerung an unser
 e Urgroßmütter, Großmütter, Mütter und auch an unsere Kindheit und Jugend“,
  sagt Katharina Thalbach. Und: „Schlager können, wenn sie gut sind, sehr gu
 te Laune machen.“</div><div class="default-style"><div class="default-style
 ">Wir sind glücklich, dass die vorzügliche Andreja Schneider, die schon oft
  mit Kathi Thalbach aufgetreten ist, kurzfristig für den leider erkrankten 
 Thomas Quasthoff einspringt.</div><div>&nbsp;</div><div>Begleitet von <stro
 ng>Christoph Israel</strong> am Klavier singen und performen <strong>Kathar
 ina Thalbach, Andreja Schneider und Corinna Harfouch</strong> einige ihrer 
 liebsten Schlager aus Ost und West, Nord und Süd.</div><div>&nbsp;</div><di
 v class="default-style">Kommt und hört und habt Spaß!</div><div>&nbsp;</div
 ><div class="default-style">Corinna Harfouch und Erdmut Wizisla</div></div>
 <div class="default-style"><div class="default-style"><div>&nbsp;</div></di
 v><div class="default-style"><div class="default-style"><div class="default
 -style">&nbsp;</div><div class="default-style">Unsere nächsten Veranstaltun
 gen:</div><div class="default-style"><div class="default-style">2. März, 15
 :30 Uhr: <em><strong>AUF BEIDEN SEITEN</strong>. <strong>Die Berliner Poliz
 ei an der Mauer</strong></em>, mit Ute Kähler und Michael Keusch (Buchvorst
 ellung)</div><div class="default-style">6. April, 17:30 Uhr: <strong>STIMME
 N DER UKRAINE</strong> mit Iryna Lazer, Mareile Metzner, Nataliia Kuprynenk
 o, Iryna Razin-Kravchenko, Jan Uplegger und Daniil Zverkhanovsky <strong>(E
 ine musikalische Reise durch die Literatur der Ukraine</strong>)</div></div
 ></div></div></div>
CONTACT:https://theatersaal-klandorf.de
DTSTAMP:20260425T151341
DTSTART;TZID=Europe/Berlin:20240217T173000
SEQUENCE:0
TRANSP:OPAQUE
END:VEVENT
END:VCALENDAR