BEGIN:VCALENDAR
VERSION:2.0
PRODID:-//jEvents 2.0 for Joomla//EN
CALSCALE:GREGORIAN
METHOD:PUBLISH
BEGIN:VTIMEZONE
TZID:Europe/Berlin
BEGIN:STANDARD
DTSTART:20221030T020000
RDATE:20230326T030000
TZOFFSETFROM:+0200
TZOFFSETTO:+0100
TZNAME:Europe/Berlin CET
END:STANDARD
BEGIN:STANDARD
DTSTART:20231029T020000
RDATE:20240331T030000
TZOFFSETFROM:+0200
TZOFFSETTO:+0100
TZNAME:Europe/Berlin CET
END:STANDARD
BEGIN:STANDARD
DTSTART:20241027T020000
RDATE:20250330T030000
TZOFFSETFROM:+0200
TZOFFSETTO:+0100
TZNAME:Europe/Berlin CET
END:STANDARD
BEGIN:STANDARD
DTSTART:20251026T020000
RDATE:20260329T030000
TZOFFSETFROM:+0200
TZOFFSETTO:+0100
TZNAME:Europe/Berlin CET
END:STANDARD
BEGIN:STANDARD
DTSTART:20261025T020000
RDATE:20270328T030000
TZOFFSETFROM:+0200
TZOFFSETTO:+0100
TZNAME:Europe/Berlin CET
END:STANDARD
BEGIN:STANDARD
DTSTART:20271031T020000
RDATE:20280326T030000
TZOFFSETFROM:+0200
TZOFFSETTO:+0100
TZNAME:Europe/Berlin CET
END:STANDARD
BEGIN:STANDARD
DTSTART:20281029T020000
RDATE:20290325T030000
TZOFFSETFROM:+0200
TZOFFSETTO:+0100
TZNAME:Europe/Berlin CET
END:STANDARD
BEGIN:STANDARD
DTSTART:20291028T020000
RDATE:20300331T030000
TZOFFSETFROM:+0200
TZOFFSETTO:+0100
TZNAME:Europe/Berlin CET
END:STANDARD
BEGIN:STANDARD
DTSTART:20301027T020000
RDATE:20310330T030000
TZOFFSETFROM:+0200
TZOFFSETTO:+0100
TZNAME:Europe/Berlin CET
END:STANDARD
BEGIN:DAYLIGHT
DTSTART:20220701T000000
RDATE:20221030T020000
TZOFFSETFROM:+0100
TZOFFSETTO:+0200
TZNAME:Europe/Berlin CEST
END:DAYLIGHT
BEGIN:DAYLIGHT
DTSTART:20230326T030000
RDATE:20231029T020000
TZOFFSETFROM:+0100
TZOFFSETTO:+0200
TZNAME:Europe/Berlin CEST
END:DAYLIGHT
BEGIN:DAYLIGHT
DTSTART:20240331T030000
RDATE:20241027T020000
TZOFFSETFROM:+0100
TZOFFSETTO:+0200
TZNAME:Europe/Berlin CEST
END:DAYLIGHT
BEGIN:DAYLIGHT
DTSTART:20250330T030000
RDATE:20251026T020000
TZOFFSETFROM:+0100
TZOFFSETTO:+0200
TZNAME:Europe/Berlin CEST
END:DAYLIGHT
BEGIN:DAYLIGHT
DTSTART:20260329T030000
RDATE:20261025T020000
TZOFFSETFROM:+0100
TZOFFSETTO:+0200
TZNAME:Europe/Berlin CEST
END:DAYLIGHT
BEGIN:DAYLIGHT
DTSTART:20270328T030000
RDATE:20271031T020000
TZOFFSETFROM:+0100
TZOFFSETTO:+0200
TZNAME:Europe/Berlin CEST
END:DAYLIGHT
BEGIN:DAYLIGHT
DTSTART:20280326T030000
RDATE:20281029T020000
TZOFFSETFROM:+0100
TZOFFSETTO:+0200
TZNAME:Europe/Berlin CEST
END:DAYLIGHT
BEGIN:DAYLIGHT
DTSTART:20290325T030000
RDATE:20291028T020000
TZOFFSETFROM:+0100
TZOFFSETTO:+0200
TZNAME:Europe/Berlin CEST
END:DAYLIGHT
BEGIN:DAYLIGHT
DTSTART:20300331T030000
RDATE:20301027T020000
TZOFFSETFROM:+0100
TZOFFSETTO:+0200
TZNAME:Europe/Berlin CEST
END:DAYLIGHT
END:VTIMEZONE
BEGIN:VEVENT
UID:22df018e1c7a73244361b1d5bb8e73c3
CATEGORIES:Kultur
CREATED:20230526T155003
SUMMARY:Chorworkshop
LOCATION:Kirche Zerpenschleuse 
DESCRIPTION:Chorworkshop\nSonntag, 02.07.2023\n13.30- 16.45 Uhr\nKirche Zerpenschleuse 
 \nChorinitiative Klangschmiede\nUnkostenbeitrag 20€\nAnmeldung unter Diese 
 E-Mail-Adresse ist vor Spambots geschützt! Zur Anzeige muss JavaScript eing
 eschaltet sein!
				document.getElementById('cloak837ddac7f57d689b185b89a19
 3408388').innerHTML = '';
				var prefix = '&#109;a' + 'i&#108;' + '&#116;o
 ';
				var path = 'hr' + 'ef' + '=';
				var addy837ddac7f57d689b185b89a193
 408388 = 'ch&#111;r&#105;n&#105;t&#105;&#97;t&#105;v&#101;kl&#97;ngschm&#10
 5;&#101;d&#101;' + '&#64;';
				addy837ddac7f57d689b185b89a193408388 = addy
 837ddac7f57d689b185b89a193408388 + 'gm&#97;&#105;l' + '&#46;' + 'c&#111;m';
 
				var addy_text837ddac7f57d689b185b89a193408388 = 'ch&#111;r&#105;n&#105
 ;t&#105;&#97;t&#105;v&#101;kl&#97;ngschm&#105;&#101;d&#101;' + '&#64;' + 'g
 m&#97;&#105;l' + '&#46;' + 'c&#111;m';document.getElementById('cloak837ddac
 7f57d689b185b89a193408388').innerHTML += '<a ' + path + '\'' + prefix + ':'
  + addy837ddac7f57d689b185b89a193408388 + '\'>'+addy_text837ddac7f57d689b18
 5b89a193408388+'';
		\n
X-ALT-DESC;FMTTYPE=text/html:<p><p><span style="font-size: 14pt;">Chorworkshop</span></p><p><span style=
 "font-size: 14pt;">Sonntag, 02.07.2023</span></p><p><span style="font-size:
  14pt;">13.30- 16.45 Uhr</span></p><p><span style="font-size: 14pt; font-fa
 mily: 'Arial', sans-serif;">Kirche Zerpenschleuse </span></p><p><span style
 ="font-size: 14pt;">Chorinitiative Klangschmiede</span></p><p><span style="
 font-size: 14pt;">Unkostenbeitrag 20€</span></p><span style="font-size: 14p
 t;">Anmeldung unter <span id="cloak837ddac7f57d689b185b89a193408388">Diese 
 E-Mail-Adresse ist vor Spambots geschützt! Zur Anzeige muss JavaScript eing
 eschaltet sein!</span><script type='text/javascript'>
				document.getEleme
 ntById('cloak837ddac7f57d689b185b89a193408388').innerHTML = '';
				var pre
 fix = '&#109;a' + 'i&#108;' + '&#116;o';
				var path = 'hr' + 'ef' + '=';

 				var addy837ddac7f57d689b185b89a193408388 = 'ch&#111;r&#105;n&#105;t&#10
 5;&#97;t&#105;v&#101;kl&#97;ngschm&#105;&#101;d&#101;' + '&#64;';
				addy8
 37ddac7f57d689b185b89a193408388 = addy837ddac7f57d689b185b89a193408388 + 'g
 m&#97;&#105;l' + '&#46;' + 'c&#111;m';
				var addy_text837ddac7f57d689b185
 b89a193408388 = 'ch&#111;r&#105;n&#105;t&#105;&#97;t&#105;v&#101;kl&#97;ngs
 chm&#105;&#101;d&#101;' + '&#64;' + 'gm&#97;&#105;l' + '&#46;' + 'c&#111;m'
 ;document.getElementById('cloak837ddac7f57d689b185b89a193408388').innerHTML
  += '<a ' + path + '\'' + prefix + ':' + addy837ddac7f57d689b185b89a1934083
 88 + '\'>'+addy_text837ddac7f57d689b185b89a193408388+'<\/a>';
		</script></
 span></p>
DTSTAMP:20260424T175214
DTSTART;TZID=Europe/Berlin;VALUE=DATE:20230702
DTEND;TZID=Europe/Berlin;VALUE=DATE:20230703
SEQUENCE:0
TRANSP:OPAQUE
END:VEVENT
END:VCALENDAR